BEGIN:VCALENDAR
VERSION:2.0
PRODID:-//eventon.com NONSGML v1.0//EN
CALSCALE:GREGORIAN
METHOD:PUBLISH
BEGIN:VEVENT
UID:69e73ce821c00
DTSTAMP:20260421T090128Z
DTSTART:20231106T193000Z
DTEND:20231106T210000Z
LOCATION:
SUMMARY:KEN WAPNICK SERIES
DESCRIPTION:\nhttps://kironj.com/events/ken-wapnick-series-9/
URL:https://kironj.com/events/ken-wapnick-series-9/
END:VEVENT
END:VCALENDAR